BEGIN:VCALENDAR
VERSION:2.0
PRODID:-//Global MOOC and Online Education Alliance - ECPv6.15.20//NONSGML v1.0//EN
CALSCALE:GREGORIAN
METHOD:PUBLISH
X-ORIGINAL-URL:https://mooc.global
X-WR-CALDESC:Events for Global MOOC and Online Education Alliance
REFRESH-INTERVAL;VALUE=DURATION:PT1H
X-Robots-Tag:noindex
X-PUBLISHED-TTL:PT1H
BEGIN:VTIMEZONE
TZID:Asia/Shanghai
BEGIN:STANDARD
TZOFFSETFROM:+0800
TZOFFSETTO:+0800
TZNAME:CST
DTSTART:20210101T000000
END:STANDARD
END:VTIMEZONE
BEGIN:VTIMEZONE
TZID:Asia/Shanghai
BEGIN:STANDARD
TZOFFSETFROM:+0800
TZOFFSETTO:+0800
TZNAME:CST
DTSTART:20210101T000000
END:STANDARD
END:VTIMEZONE
BEGIN:VEVENT
DTSTART;TZID=Asia/Shanghai:20220512T153000
DTEND;TZID=Asia/Shanghai:20220512T180000
DTSTAMP:20260422T091210
CREATED:20220511T200946Z
LAST-MODIFIED:20230529T023805Z
UID:10000031-1652369400-1652378400@mooc.global
SUMMARY:Dialogue on Winter Olympic Games
DESCRIPTION:“From Beijing to Milan: Design Innovations for Sustainability“\n\n\n\n\n\nOrganized by Tsinghua University (School of Architecture)\, in collaboration with Politecnico di Milano \n\n\n\nTime (Beijing\, UTC+8): 3:30 pm – 6:00 pmTime (Milan\, UTC+2): 9:30 am – 12:00 pm\n\n\n\nLink for live stream (and playback): https://www.xuetangx.com/live/live20220510m002/live20220510m002/12242180/21658500 \n\n\n\n\n\n\n\nLink for live stream (and playback)\n\n\n\n\n\n\n\nSchedule\n\n\n\n\n\n\n\n\nWelcome Remarks  15:30-15:55 \nChristophe DubiOlympic Games Executive Director\, International Olympic Committee \n\n\n\nFerruccio Resta Rector of Politecnico di Milano  \n\n\n\nYANG Bin Vice President and Provost of Tsinghua University  \n\n\n\nLuca Ferrari Ambassador of Italy to the People’s Republic of China  \n\n\n\nLIU KanConsulate-General of the People’s Republic of China in Milan \n\n\n\n\nDialogue on Tech Innovation & Infrastructure: Invited Talks 15:55-16:35\n8 mins per speaker \n\n\n\nZHUANG WeiminAcademician of Chinese Academy of Engineering; Professor of Architecture and President of Architectural Design and Research Institute\, Tsinghua University. \n\n\n\nRoberto MoresiFIS Contest Director for Park & Pipe \n\n\n\nLI JiulinChief Engineer of Beijing Urban Construction Group \n\n\n\nMarcello RossiNational Councilor of CNAPPC \n\n\n\n\nDialogue on Tech Innovation & Infrastructure: Discussion 16:35-16:50\n3 mins per speaker \n\n\n\nAndrea CampioliProfessor of Technology of Architecture and Dean of the School of Architecture\, Politecnico di Milano \n\n\n\nWEI QinghuaGeneral Manager of Zhongxue Zhongyuan Technology Company \n\n\n\nZHU YoupingPresident of Zhangjiakou Olympic Sports Company \n\n\n\nLIN BorongProfessor of Green Building and Vice Dean of School of Architecture at Tsinghua University \n\n\n\n\nDialogue on Event Legacy & Public Space: Invited Talks 16:50-17:30\n8 mins per speaker \n\n\n\nLuca MolinariArchitect\, critic\, curator\, and Professor of Theory and Architectural Design\, University of Campania Luigi Vanvitelli \n\n\n\nLIU YuminDirector of Planning & Construction Department of Beijing Organizing Committee for 2022 Winter Olympic Games \n\n\n\nFlorence Graezer BideauSenior Scientist of Sociology at Swiss Federal Institute of Technology Lausanne \n\n\n\nZHANG LiProfessor of Architecture and Dean of School of Architecture at Tsinghua University; VP of Architectural Design and Research Institute\, Tsinghua University. \n\n\n\n\nDialogue on Event Legacy & Public Space: Discussion 17:30-17:45\n3 mins per speaker  \n\n\n\nJIN HongliGeneral Manager of Shougang Construction Investment Company \n\n\n\nZHU YufanProfessor of Landscape of Architecture at Tsinghua University \n\n\n\nLaszlo VajdaConsultant on Sports and International Relations of Beijing Organizing Committee for Winter Olympic Games\, Professor of Beijing Institute for International Olympic Studies at Capital University of Physical Education and Sports \n\n\n\nMichele BoninoAssociate Professor of Architecture & Urban Design and Rector’s Delegate for Relations with China and Asian Countries of Politecnico di Torino \n\n\n\n\nClosing Remarks 17:45-17:55\nGiuliano NocciVice Rector for China of Politecnico di Milano \n\n\n\nYANG BinVice President and Provost of Tsinghua University \n\n\n\n\nGroup Photo 17:55-18:00\nModerator: LIU JianProfessor of Urban Planning and Vice Dean of School of Architecture at Tsinghua University
URL:https://mooc.global/event/dialogue-on-winter-olympic-games-from-beijing-to-milan-design-innovations-for-sustainability/
CATEGORIES:Global Open Courses (GOC)
ATTACH;FMTTYPE=image/jpeg:https://mooc.global/wp-content/uploads/2022/05/Dialogue-on-Winter-Olympic-Games.jpeg
LOCATION:https://www.xuetangx.com/live/live20220510m002/live20220510m002/12242180/21658500
END:VEVENT
BEGIN:VEVENT
DTSTART;TZID=Asia/Shanghai:20220513T133000
DTEND;TZID=Asia/Shanghai:20220513T150500
DTSTAMP:20260422T091210
CREATED:20220511T182045Z
LAST-MODIFIED:20230529T024136Z
UID:10000030-1652448600-1652454300@mooc.global
SUMMARY:Chinese Government and Politics
DESCRIPTION:This lecture is a part of the Global Open Courses initiative\, launched by Tsinghua University. Unlike the Fall 2021 edition where every lecture of the eight courses will be made available\, the Spring 2022 edition will only be making 1-2 lectures openly available to the public (this is mainly because of the misaligned academic calendars across universities globally). \n\n\n\nThis lecture is a part of the course\, “Chinese Government and Politics“ (taught in Chinese). It is focused on the institution\, structure\, and process of the contemporary Chinese political system. It tries to help the students have a deep understanding of the development and change of the Chinese political system\, and learn to analyze Chinese politics in an academic and critical way. \n\n\n\nTime: May 13th\, 13:30-15:05\, Beijing time (GMT+8) \n\n\n\nLink for live stream (and replay): https://www.xuetangx.com/live/QQGKK20220310/QQGKK20220310/11794710/21643386 \n\n\n\n\n\nJianyu HeAssociate Professor\,School of Marxism at Tsinghua University.\n\n\n\n\n\nLecturer: \n\n\n\nJianyu He\, Associate Professor in the School of Marxism at Tsinghua University. He was a visiting scholar at Oxford University and Sciences-Po Paris\, a Guest Research Advisor of the Organization Department of the Sichuan Provincial Party Committee\, and “Yuanmingyuan Scholar” of the Beijing Communist Youth League Committee. His research interests include Party building\, Chinese Government and politics\, non-profit organizations\, and social governance innovation. He co-authored “Journey of Avenue: Chinese Communist Party and Chinese Socialism” and “Reform of Chinese Civil Associations: From Governmental Choice to Social Choice.” He was awarded the “Lin Feng Instructor Award” and the “Gong Yuzhi Teaching Award for General Education” by Tsinghua University.
URL:https://mooc.global/event/chinese-government-and-politics/
CATEGORIES:Global Open Courses (GOC)
ATTACH;FMTTYPE=image/jpeg:https://mooc.global/wp-content/uploads/2022/05/0513-GOC-Chinese-Government-and-Politics--scaled.jpeg
LOCATION:https://www.xuetangx.com/live/QQGKK20220310/QQGKK20220310/11794710/21643386
END:VEVENT
BEGIN:VEVENT
DTSTART;TZID=Asia/Shanghai:20220523T152000
DTEND;TZID=Asia/Shanghai:20220523T165500
DTSTAMP:20260422T091210
CREATED:20220520T123857Z
LAST-MODIFIED:20230529T024132Z
UID:10000033-1653319200-1653324900@mooc.global
SUMMARY:Ethics in the Era of Globalization
DESCRIPTION:This lecture is a part of the Global Open Courses initiative\, launched by Tsinghua University). Unlike the Fall 2021 edition where every lecture of the eight courses will be made available\, the Spring 2022 edition will only be making 1-2 lectures openly available to the public (this is mainly because of the misaligned academic calendars across universities globally).  \n\n\n\nThis lecture is a part of the course\, “Ethics in the Era of Globalization“. Globalization is an unprecedented phenomenon in our times. As various regions in the world are becoming more and more connected with each other politically\, economically and culturally\, they often differ from each other regarding moral values. Consequently\, conflict and convergence of these moral views are an important part of globalization process. Based on in-depth analysis of the dynamism of globalization\, this course is going to investigate some related ethic disputes. The selected topics focus on the impact of globalization on traditional moral values in different regions\, and the emergence of new ethic value out of globalization. Topics include capitalistic ethics\, social equality\, universal value\, religion\, ideology\, nationalism\, environmental protection\, philanthropy and foreign aid\, intellectual property among others. The course is to combine reading of ethics classics with current international practice. It lays emphasis on critical thinking\, disruptive research and open discussion. \n\n\n\nTime: May 23rd\, 15:20-16:55\, Beijing time (GMT+8) \n\n\n\nLink for live stream (and replay): https://www.xuetangx.com/live/QQGKK20220310/QQGKK20220310/11794710/21992421 \n\n\n\n\n\nTang Xiaoyang Chair and a professor in the Department of International Relations at Tsinghua University.\n\n\n\n\n\nLecturer: \n\n\n\nTang Xiaoyang is the chair and a professor in the Department of International Relations at Tsinghua University. His research interests include political philosophy\, global modernization processes\, and China’s engagement with developing countries. Tang is the author of Coevolutionary Pragmatism: Approaches and Impacts of China-Africa Economic Cooperation (Cambridge University Press 2020) and has published extensively on the Belt and Road Initiative. Before he came to Tsinghua\, Tang worked at the International Food Policy Research Institute (IFPRI) in Washington\, DC. He has also worked as a consultant for the World Bank\, UNDP\, USAID\, and various research institutes and consulting companies.
URL:https://mooc.global/event/ethics-in-the-era-of-globalization/
CATEGORIES:Global Open Courses (GOC)
ATTACH;FMTTYPE=image/jpeg:https://mooc.global/wp-content/uploads/2022/04/0523-Ethics-in-the-Era-of-Globalization-scaled.jpeg
LOCATION:https://www.xuetangx.com/live/QQGKK20220310/QQGKK20220310/11794710/21992421
END:VEVENT
END:VCALENDAR