BEGIN:VCALENDAR
VERSION:2.0
PRODID:-//Global MOOC and Online Education Alliance - ECPv6.15.20//NONSGML v1.0//EN
CALSCALE:GREGORIAN
METHOD:PUBLISH
X-ORIGINAL-URL:https://mooc.global
X-WR-CALDESC:Events for Global MOOC and Online Education Alliance
REFRESH-INTERVAL;VALUE=DURATION:PT1H
X-Robots-Tag:noindex
X-PUBLISHED-TTL:PT1H
BEGIN:VTIMEZONE
TZID:Asia/Shanghai
BEGIN:STANDARD
TZOFFSETFROM:+0800
TZOFFSETTO:+0800
TZNAME:CST
DTSTART:20200101T000000
END:STANDARD
END:VTIMEZONE
BEGIN:VEVENT
DTSTART;TZID=Asia/Shanghai:20220314T133000
DTEND;TZID=Asia/Shanghai:20220314T150500
DTSTAMP:20260420T031043
CREATED:20220521T160731Z
LAST-MODIFIED:20230529T024227Z
UID:10000037-1647264600-1647270300@mooc.global
SUMMARY:International Environmental Cooperation Funding
DESCRIPTION:This lecture is a part of the Global Open Courses initiative\, launched by Tsinghua University). Unlike the Fall 2021 edition where every lecture of the eight courses will be made available\, the Spring 2022 edition will only be making 1-2 lectures openly available to the public (this is mainly because of the misaligned academic calendars across universities globally).  \n\n\n\nThis lecture is also a part of the GHC Certificate: Environmental Governance.  \n\n\n\nThe lecture is a part of the course\, “International Environmental Cooperation Project Development and Management”. The teaching today will focus on the finance of international environmental cooperation. Prof. LI Jinhui will introduce how to design the project concept from the fund type and the principle on which the application is based. He also will teach from global funds\, South-South cooperation funds and Global Environment Facility\, and discuss the situation of funds\, project requirements\, application procedures and case with the students. \n\n\n\nTime: March 14\, 1:30pm to 3:05pm Beijing time (GMT+8) \n\n\n\nLink for live stream (and replay): https://www.xuetangx.com/live/QQGKK20220310/QQGKK20220310/11794710/19040440  \n\n\n\n\n\nLI Jinhuiprofessor at School of Environment\, Tsinghua University\n\n\n\n\n\nLecturer: \n\n\n\nLI Jinhui is a professor at School of Environment\, Tsinghua University. Currently\, he serves as executive director of the Basel Convention and the Stockholm Convention Regional Centre for Asia and the Pacific\, the director of Circular Economy Branch of Chinese Society of Environmental Sciences\, and the director-general of Solid Waste Treatment and Utilization Committee of China Environmental Protection Industry Association.
URL:https://mooc.global/event/international-environmental-cooperation-funding/
CATEGORIES:Global Open Courses (GOC)
ATTACH;FMTTYPE=image/jpeg:https://mooc.global/wp-content/uploads/2022/03/0314-GOC_International-Environmental-Cooperation-Project-Development-and-Management.jpeg
LOCATION:https://www.xuetangx.com/live/QQGKK20220310/QQGKK20220310/11794710/19040440
END:VEVENT
BEGIN:VEVENT
DTSTART;TZID=Asia/Shanghai:20220314T080000
DTEND;TZID=Asia/Shanghai:20220314T093500
DTSTAMP:20260420T031043
CREATED:20220521T161004Z
LAST-MODIFIED:20230529T024235Z
UID:10000038-1647244800-1647250500@mooc.global
SUMMARY:Material Flow Analysis (MFA) Procedures
DESCRIPTION:This lecture is a part of the Global Open Courses initiative\, launched by Tsinghua University). Unlike the Fall 2021 edition where every lecture of the eight courses will be made available\, the Spring 2022 edition will only be making 1-2 lectures openly available to the public (this is mainly because of the misaligned academic calendars across universities globally).  \n\n\n\nThis lecture is also a part of the GHC Certificate: Environmental Governance.  \n\n\n\nThis lecture is a part of the course\, “Material Flow Analysis and Its Applications”. This teaching today will address the procedure of material flow analysis\, consisting of the selection of substance\, system boundary definition\, identification of flows & stock\, material flow accounting\, and visualization of results. By this learning\, the students will master the material flow analysis to identify and result the relevant problems. \n\n\n\nTime: March 14\, 8:00am to 9:35am Beijing time (GMT+8) \n\n\n\nLink for live stream (and replay): https://www.xuetangx.com/live/QQGKK20220310/QQGKK20220310/11794710/19038202 \n\n\n\n\n\nZENG XianlaiAssociate Researcher of the School of Environment\, Tsinghua University\n\n\n\n\n\nLecturer: \n\n\n\nZENG Xianlai is Vice Chairman of the Tsinghua University Committee of the China Democratic League\, Deputy Director of Tsinghua University Think Tank Research Center\, and Associate Researcher of the School of Environment\, Tsinghua University. He mainly studies circular economy\, waste recycling\, and resource and environmental management. Since 2006\, Zeng has been engaged in teaching\, and has taught 10 courses with more than 1300 credit hours\, gaining rich teaching experience.  \n\n\n\n\n\n\n\nYou may also be interested in our Global Hybrid Classroom (GHC) Certificate program:\n\n\n“Environmental Governance” (2022)
URL:https://mooc.global/event/material-flow-analysis-mfa-procedures/
CATEGORIES:Global Open Courses (GOC)
ATTACH;FMTTYPE=image/jpeg:https://mooc.global/wp-content/uploads/2022/04/0314-GOC_Material-Flow-Analysis-and-Its-Applications.jpeg
LOCATION:https://www.xuetangx.com/live/QQGKK20220310/QQGKK20220310/11794710/19038202
END:VEVENT
BEGIN:VEVENT
DTSTART;TZID=Asia/Shanghai:20210610T200000
DTEND;TZID=Asia/Shanghai:20210610T220000
DTSTAMP:20260420T031043
CREATED:20221006T172539Z
LAST-MODIFIED:20230529T024420Z
UID:10000054-1623355200-1623362400@mooc.global
SUMMARY:Online Education Dialogue 2021 kick-off
DESCRIPTION:“Rethinking higher education capacity building in the post-pandemic era”\n\n\n\n\n\nOrganized by Global MOOC and Online Education Alliance\, in collaboration with Asian Universities Alliance (AUA)\, XuetangX\, International Center for Engineering Education (ICEE) under the auspices of UNESCO\, Guangdong University of Foreign Studies \n\n\n\n\nTime (Beijing\, UTC+8): 8:00 pm – 10:00 pm\n\n\n\n\nLink for live stream (and playback): https://www.xuetangx.com/live/live20210604M002intl/live20210604M002intl/7646217/12081292 \n\n\n\n\n\n\n\n\n\n\n\nLink for live stream (and playback)\n\n\n\n\n\n\n\nKeynote and panel speakers: \n\n\n\nProf. YANG Bin. Convenor of Global MOOC Alliance Executive Committee; Vice President and Provost of Tsinghua University; Director of Center for Leadership Development and Research. \n\n\n\nProf. Nicholas B. Dirks. President and CEO of the New York Academy of Sciences; Professor of History and Anthropology; former Chancellor of the University of California\, Berkeley;  \n\n\n\nProf. Lionel Ni. Founding President of the Hong Kong University of Science and Technology (Guangzhou); Chair Professor of Computer Science and Engineering. \n\n\n\n\n\n\n\n\nYANG BinVice President & Provost\, Tsinghua University; Convenor of Executive Committee\, Global MOOC and Online Education Alliance \n\n\n\n\n\n\n\n\nNicholas B. DirksPresident and CEO of the New York Academy of Sciences; Professor of History and Anthropology; former Chancellor of the University of California\, Berkeley \n\n\n\n\n\n\n\n\n\n\nLionel Ni. Founding President of the Hong Kong University of Science and Technology (Guangzhou); Chair Professor of Computer Science and Engineering \n\n\n\n\n\n\n\n\nEnoch Wong (Moderator)Assistant Secretary-General\, Global MOOC and Online Education Alliance
URL:https://mooc.global/event/online-education-dialogue-2021-kick-off/
CATEGORIES:Online Education Dialogue (OED)
ATTACH;FMTTYPE=image/jpeg:https://mooc.global/wp-content/uploads/2022/10/OED-2021-kickoff.jpeg
LOCATION:https://www.xuetangx.com/live/live20210604M002intl/live20210604M002intl/7646217/12081292
END:VEVENT
END:VCALENDAR