BEGIN:VCALENDAR
VERSION:2.0
PRODID:-//Global MOOC and Online Education Alliance - ECPv6.15.20//NONSGML v1.0//EN
CALSCALE:GREGORIAN
METHOD:PUBLISH
X-ORIGINAL-URL:https://mooc.global
X-WR-CALDESC:Events for Global MOOC and Online Education Alliance
REFRESH-INTERVAL;VALUE=DURATION:PT1H
X-Robots-Tag:noindex
X-PUBLISHED-TTL:PT1H
BEGIN:VTIMEZONE
TZID:Asia/Shanghai
BEGIN:STANDARD
TZOFFSETFROM:+0800
TZOFFSETTO:+0800
TZNAME:CST
DTSTART:20210101T000000
END:STANDARD
END:VTIMEZONE
BEGIN:VEVENT
DTSTART;TZID=Asia/Shanghai:20220411T140000
DTEND;TZID=Asia/Shanghai:20220411T172000
DTSTAMP:20260422T135400
CREATED:20220521T160242Z
LAST-MODIFIED:20230529T024218Z
UID:10000036-1649685600-1649697600@mooc.global
SUMMARY:Enterprise-level Foreign Investment Strategy
DESCRIPTION:This lecture is a part of the Global Open Courses initiative\, launched by Tsinghua University). Unlike the Fall 2021 edition where every lecture of the eight courses will be made available\, the Spring 2022 edition will only be making 1-2 lectures openly available to the public (this is mainly because of the misaligned academic calendars across universities globally).  \n\n\n\nThis lecture is a part of the course\, “Management of Global Enterprises”. The main content of this section focuses on “enterprise-level foreign investment strategy“\, including the following three key questions:  \n\n\n\nHow to evaluate ownership advantages (“O”)? How to evaluate location advantages (“L”)?Why invest abroad (“I”)?\n\n\n\nSpecifically\, based on Professor Dunning’s OLI (Ownership\, Location\, Internalization) theory\, we will analyze the internalization advantages\, location advantages and ownership advantages of enterprises\, and use Professor Don Lessard’s RAT (Relevant\, Appropriable\, Transferable) and CAT (Complementary\, Appropriable\, Transferable) test to analyze the foreign investment behavior of enterprises. \n\n\n\nTime: April 11th\, 14:00-17:20\, Beijing time (GMT+8) \n\n\n\nLink for live stream (and replay): https://www.xuetangx.com/live/QQGKK20220310/QQGKK20220310/11794710/20336192 \n\n\n\n\n\nCHEN Taotao professor of School of Economics & Management\, Tsinghua University;director of Latin-America Center\, Tsinghua University\n\n\n\n\n\nLecturer: \n\n\n\nCHEN Taotao is a professor of the School of Economics & Management\, Tsinghua University and the director of Latin America Center\, Tsinghua University. Her main research areas are “Foreign Direct Investment (FDI)” “International Business” and “Globalization and Strategy”. She has published more than 30 papers on the topic of FDI spillover\, Chinese Companies investing abroad\, and has presided research projects supported by National Science Foundation\, Ministry of Education and Ministry of Commerce etc. In recent years\, Prof. Chen Taotao put more efforts on the topics such as The Business Environment in US & Latin America and The capability of Chinese Young MNCs etc. During the research process\, Professor Chen has visited more than 50 branches of Chinese companies who have invested in US and Latin American countries\, and collaborated with think tanks\, multi-development banks\, such as ECLAC\, IDB\, CAF\, as well as top universities\, such as MIT in US\, Toronto University in Canada\, Catholic University in Chile\, etc. Besides\, she has been invited to attend international forums\, such as World Economic Forum\, Emerging Market Forums\, making speeches and being engaged into different kinds of debates.
URL:https://mooc.global/event/enterprise-level-foreign-investment-strategy/
CATEGORIES:Global Open Courses (GOC)
ATTACH;FMTTYPE=image/jpeg:https://mooc.global/wp-content/uploads/2022/04/0411-GOC_Management-of-Global-Enterprises-scaled.jpeg
LOCATION:https://www.xuetangx.com/live/QQGKK20220310/QQGKK20220310/11794710/20336192
END:VEVENT
END:VCALENDAR